BEGIN:VCALENDAR
VERSION:2.0
PRODID:-//Sheffield Association for Spina Bifida and Hydrocephalus - ECPv6.15.17//NONSGML v1.0//EN
CALSCALE:GREGORIAN
METHOD:PUBLISH
X-ORIGINAL-URL:https://www.shasbah.co.uk
X-WR-CALDESC:Events for Sheffield Association for Spina Bifida and Hydrocephalus
REFRESH-INTERVAL;VALUE=DURATION:PT1H
X-Robots-Tag:noindex
X-PUBLISHED-TTL:PT1H
BEGIN:VTIMEZONE
TZID:UTC
BEGIN:STANDARD
TZOFFSETFROM:+0000
TZOFFSETTO:+0000
TZNAME:UTC
DTSTART:20250101T000000
END:STANDARD
END:VTIMEZONE
BEGIN:VEVENT
DTSTART;TZID=UTC:20260424T120000
DTEND;TZID=UTC:20260424T140000
DTSTAMP:20260421T192409
CREATED:20260225T080746Z
LAST-MODIFIED:20260413T121201Z
UID:6740-1777032000-1777039200@www.shasbah.co.uk
SUMMARY:Chat Away at Sheffield Botanical Gardens
DESCRIPTION:Our Chat Away group for adults living with spina bifida and/or hydrocephalus meets every other week around South Yorkshire. It’s a great way to get out and about with others and members can build lasting friendships. We’ll organise the logistics\, you just turn up and have a good time! \nChat Away at Sheffield Botanical Gardens \nWhy not join us on Friday 24th April\, where we’ll be enjoying a leisurely explore and a social around the beautiful Sheffield Botanical Gardens. The event is free for our members and you’re welcome to bring along a friend\, family member and/or support worker. Please complete the booking form so that we know numbers for the day\, and we look forward to seeing you! \nTravel training: Did you know we offer independent travel training? Let us know if you would like to arrange for this on the day and we will be in touch. \nWhatsApp: If you would like to join our Chat Away WhatsApp group for live information\, please contact Nina on 07752 665411 or services@shasbah.co.uk. We love to hear suggestions from our members about where to go next!
URL:https://www.shasbah.co.uk/event/chat-away-botanical/
LOCATION:Sheffield Botanical Gardens\, Clarkehouse Road\, Sheffield\, S10 2LN\, United Kingdom
CATEGORIES:Adult Social Groups,Chat Away
ATTACH;FMTTYPE=image/png:https://www.shasbah.co.uk/wp-content/uploads/2026/02/Copy-of-Botanical-1200-x-628-px-3.png
ORGANIZER;CN="SHASBAH":MAILTO:info@shasbah.co.uk
END:VEVENT
END:VCALENDAR