BEGIN:VCALENDAR
VERSION:2.0
PRODID:-//Sheffield Association for Spina Bifida and Hydrocephalus - ECPv6.15.17//NONSGML v1.0//EN
CALSCALE:GREGORIAN
METHOD:PUBLISH
X-ORIGINAL-URL:https://www.shasbah.co.uk
X-WR-CALDESC:Events for Sheffield Association for Spina Bifida and Hydrocephalus
REFRESH-INTERVAL;VALUE=DURATION:PT1H
X-Robots-Tag:noindex
X-PUBLISHED-TTL:PT1H
BEGIN:VTIMEZONE
TZID:UTC
BEGIN:STANDARD
TZOFFSETFROM:+0000
TZOFFSETTO:+0000
TZNAME:UTC
DTSTART:20200101T000000
END:STANDARD
END:VTIMEZONE
BEGIN:VEVENT
DTSTART;TZID=UTC:20211203T130000
DTEND;TZID=UTC:20211203T150000
DTSTAMP:20260424T064126
CREATED:20211201T102522Z
LAST-MODIFIED:20211201T102522Z
UID:1971-1638536400-1638543600@www.shasbah.co.uk
SUMMARY:Chat Away
DESCRIPTION:Join us for a fun and sociable afternoon! Our weekly Sheffield adults group is an opportunity to get out of the house and meet other SHASBAH members. Entry is free and refreshments are provided! \nOur team provide everything you need for a fun afternoon. There are optional activities such as card games\, origami and Hama beads. Plus\, we’re always open to suggestions and trying new things. It’s a great opportunity to get to know other people who have Spina bifida or Hydrocephalus. We meet every week\, so you can really build lasting relationships. We’re a friendly bunch\, so don’t be shy! \nOur venue\, Longley Four Greens Community Centre\, is excellent and easily accessible\, located in Longley\, North Sheffield. If you need help with transport\, just get in touch and we’d be happy to help. We hope to see you there!
URL:https://www.shasbah.co.uk/event/chat-away-5/
LOCATION:Longley Four Greens\, 41 Southey Avenue\, Sheffield\, S5 7NN\, United Kingdom
CATEGORIES:Adult Social Groups,Craft and Chat
ATTACH;FMTTYPE=image/png:https://www.shasbah.co.uk/wp-content/uploads/2021/09/t1-1-e1631178294557.png
ORGANIZER;CN="SHASBAH":MAILTO:info@shasbah.co.uk
END:VEVENT
BEGIN:VEVENT
DTSTART;TZID=UTC:20211126T130000
DTEND;TZID=UTC:20211126T150000
DTSTAMP:20260424T064126
CREATED:20211103T092956Z
LAST-MODIFIED:20211103T092956Z
UID:1881-1637931600-1637938800@www.shasbah.co.uk
SUMMARY:Chat Away
DESCRIPTION:Join us for a fun and sociable afternoon! Our weekly Sheffield adults group is an opportunity to get out of the house and meet other SHASBAH members. Entry is free and refreshments are provided! \nOur team provide everything you need for a fun afternoon. There are optional activities such as card games\, origami and Hama beads. Plus\, we’re always open to suggestions and trying new things. It’s a great opportunity to get to know other people who have Spina bifida or Hydrocephalus. We meet every week\, so you can really build lasting relationships. We’re a friendly bunch\, so don’t be shy! \nOur venue\, Longley Four Greens Community Centre\, is excellent and easily accessible\, located in Longley\, North Sheffield. If you need help with transport\, just get in touch and we’d be happy to help. We hope to see you there!
URL:https://www.shasbah.co.uk/event/chat-away-4/
LOCATION:Longley Four Greens\, 41 Southey Avenue\, Sheffield\, S5 7NN\, United Kingdom
CATEGORIES:Adult Social Groups,Craft and Chat
ATTACH;FMTTYPE=image/png:https://www.shasbah.co.uk/wp-content/uploads/2021/09/t1-1-e1631178294557.png
ORGANIZER;CN="SHASBAH":MAILTO:info@shasbah.co.uk
END:VEVENT
BEGIN:VEVENT
DTSTART;TZID=UTC:20211119T130000
DTEND;TZID=UTC:20211119T150000
DTSTAMP:20260424T064126
CREATED:20211103T092936Z
LAST-MODIFIED:20211103T092936Z
UID:1879-1637326800-1637334000@www.shasbah.co.uk
SUMMARY:Chat Away
DESCRIPTION:Join us for a fun and sociable afternoon! Our weekly Sheffield adults group is an opportunity to get out of the house and meet other SHASBAH members. Entry is free and refreshments are provided! \nOur team provide everything you need for a fun afternoon. There are optional activities such as card games\, origami and Hama beads. Plus\, we’re always open to suggestions and trying new things. It’s a great opportunity to get to know other people who have Spina bifida or Hydrocephalus. We meet every week\, so you can really build lasting relationships. We’re a friendly bunch\, so don’t be shy! \nOur venue\, Longley Four Greens Community Centre\, is excellent and easily accessible\, located in Longley\, North Sheffield. If you need help with transport\, just get in touch and we’d be happy to help. We hope to see you there!
URL:https://www.shasbah.co.uk/event/chat-away-3/
LOCATION:Longley Four Greens\, 41 Southey Avenue\, Sheffield\, S5 7NN\, United Kingdom
CATEGORIES:Adult Social Groups,Craft and Chat
ATTACH;FMTTYPE=image/png:https://www.shasbah.co.uk/wp-content/uploads/2021/09/t1-1-e1631178294557.png
ORGANIZER;CN="SHASBAH":MAILTO:info@shasbah.co.uk
END:VEVENT
BEGIN:VEVENT
DTSTART;TZID=UTC:20211112T130000
DTEND;TZID=UTC:20211112T150000
DTSTAMP:20260424T064126
CREATED:20211103T092916Z
LAST-MODIFIED:20211103T092916Z
UID:1877-1636722000-1636729200@www.shasbah.co.uk
SUMMARY:Chat Away
DESCRIPTION:Join us for a fun and sociable afternoon! Our weekly Sheffield adults group is an opportunity to get out of the house and meet other SHASBAH members. Entry is free and refreshments are provided! \nOur team provide everything you need for a fun afternoon. There are optional activities such as card games\, origami and Hama beads. Plus\, we’re always open to suggestions and trying new things. It’s a great opportunity to get to know other people who have Spina bifida or Hydrocephalus. We meet every week\, so you can really build lasting relationships. We’re a friendly bunch\, so don’t be shy! \nOur venue\, Longley Four Greens Community Centre\, is excellent and easily accessible\, located in Longley\, North Sheffield. If you need help with transport\, just get in touch and we’d be happy to help. We hope to see you there!
URL:https://www.shasbah.co.uk/event/chat-away-2/
LOCATION:Longley Four Greens\, 41 Southey Avenue\, Sheffield\, S5 7NN\, United Kingdom
CATEGORIES:Adult Social Groups,Craft and Chat
ATTACH;FMTTYPE=image/png:https://www.shasbah.co.uk/wp-content/uploads/2021/09/t1-1-e1631178294557.png
ORGANIZER;CN="SHASBAH":MAILTO:info@shasbah.co.uk
END:VEVENT
BEGIN:VEVENT
DTSTART;TZID=UTC:20211105T130000
DTEND;TZID=UTC:20211105T150000
DTSTAMP:20260424T064126
CREATED:20211103T092834Z
LAST-MODIFIED:20211103T092834Z
UID:1874-1636117200-1636124400@www.shasbah.co.uk
SUMMARY:Chat Away
DESCRIPTION:Join us for a fun and sociable afternoon! Our weekly Sheffield adults group is an opportunity to get out of the house and meet other SHASBAH members. Entry is free and refreshments are provided! \nOur team provide everything you need for a fun afternoon. There are optional activities such as card games\, origami and Hama beads. Plus\, we’re always open to suggestions and trying new things. It’s a great opportunity to get to know other people who have Spina bifida or Hydrocephalus. We meet every week\, so you can really build lasting relationships. We’re a friendly bunch\, so don’t be shy! \nOur venue\, Longley Four Greens Community Centre\, is excellent and easily accessible\, located in Longley\, North Sheffield. If you need help with transport\, just get in touch and we’d be happy to help. We hope to see you there!
URL:https://www.shasbah.co.uk/event/chat-away/
LOCATION:Longley Four Greens\, 41 Southey Avenue\, Sheffield\, S5 7NN\, United Kingdom
CATEGORIES:Adult Social Groups,Craft and Chat
ATTACH;FMTTYPE=image/png:https://www.shasbah.co.uk/wp-content/uploads/2021/09/t1-1-e1631178294557.png
ORGANIZER;CN="SHASBAH":MAILTO:info@shasbah.co.uk
END:VEVENT
BEGIN:VEVENT
DTSTART;TZID=UTC:20211022T110000
DTEND;TZID=UTC:20211022T130000
DTSTAMP:20260424T064126
CREATED:20210922T102004Z
LAST-MODIFIED:20210922T102005Z
UID:1764-1634900400-1634907600@www.shasbah.co.uk
SUMMARY:Craft and Chat
DESCRIPTION:Join us for an afternoon of crafting and chatting! Our weekly Sheffield craft group is an opportunity to get out the house\, get the creative juices flowing and meet other SHASBAH members. Entry is free and refreshments are provided! Bring lunch if you’d like to eat together. \nOur team provide everything you need for a fun afternoon. We offer crafts such as card-making\, origami and Hama beads. Plus\, we’re always open to suggestions and trying new things. We’re the only craft group in Sheffield specifically aimed at those with Spina Bifida and Hydrocephalus. It’s a great opportunity to get to know other people who are in a similar situation. We meet every week\, so you can really build lasting relationships. We’re a friendly bunch\, so don’t be shy! \nOur venue\, Longley Four Greens Community Centre\, is excellent and easily accessible\, located in Longley\, North Sheffield. If you need help with transport\, just get in touch and we’d be happy to help. We hope to see you there!
URL:https://www.shasbah.co.uk/event/craft-and-chat-14/
LOCATION:Longley Four Greens\, 41 Southey Avenue\, Sheffield\, S5 7NN\, United Kingdom
CATEGORIES:Adult Social Groups,Craft and Chat
ATTACH;FMTTYPE=image/png:https://www.shasbah.co.uk/wp-content/uploads/2021/09/t1-1-e1631178294557.png
ORGANIZER;CN="SHASBAH":MAILTO:info@shasbah.co.uk
END:VEVENT
BEGIN:VEVENT
DTSTART;TZID=UTC:20211015T110000
DTEND;TZID=UTC:20211015T130000
DTSTAMP:20260424T064126
CREATED:20210922T101952Z
LAST-MODIFIED:20210922T101952Z
UID:1762-1634295600-1634302800@www.shasbah.co.uk
SUMMARY:Craft and Chat
DESCRIPTION:Join us for an afternoon of crafting and chatting! Our weekly Sheffield craft group is an opportunity to get out the house\, get the creative juices flowing and meet other SHASBAH members. Entry is free and refreshments are provided! Bring lunch if you’d like to eat together. \nOur team provide everything you need for a fun afternoon. We offer crafts such as card-making\, origami and Hama beads. Plus\, we’re always open to suggestions and trying new things. We’re the only craft group in Sheffield specifically aimed at those with Spina Bifida and Hydrocephalus. It’s a great opportunity to get to know other people who are in a similar situation. We meet every week\, so you can really build lasting relationships. We’re a friendly bunch\, so don’t be shy! \nOur venue\, Longley Four Greens Community Centre\, is excellent and easily accessible\, located in Longley\, North Sheffield. If you need help with transport\, just get in touch and we’d be happy to help. We hope to see you there!
URL:https://www.shasbah.co.uk/event/craft-and-chat-13/
LOCATION:Longley Four Greens\, 41 Southey Avenue\, Sheffield\, S5 7NN\, United Kingdom
CATEGORIES:Adult Social Groups,Craft and Chat
ATTACH;FMTTYPE=image/png:https://www.shasbah.co.uk/wp-content/uploads/2021/09/t1-1-e1631178294557.png
ORGANIZER;CN="SHASBAH":MAILTO:info@shasbah.co.uk
END:VEVENT
BEGIN:VEVENT
DTSTART;TZID=UTC:20211008T110000
DTEND;TZID=UTC:20211008T130000
DTSTAMP:20260424T064126
CREATED:20210922T101936Z
LAST-MODIFIED:20210922T101936Z
UID:1760-1633690800-1633698000@www.shasbah.co.uk
SUMMARY:Craft and Chat
DESCRIPTION:Join us for an afternoon of crafting and chatting! Our weekly Sheffield craft group is an opportunity to get out the house\, get the creative juices flowing and meet other SHASBAH members. Entry is free and refreshments are provided! Bring lunch if you’d like to eat together. \nOur team provide everything you need for a fun afternoon. We offer crafts such as card-making\, origami and Hama beads. Plus\, we’re always open to suggestions and trying new things. We’re the only craft group in Sheffield specifically aimed at those with Spina Bifida and Hydrocephalus. It’s a great opportunity to get to know other people who are in a similar situation. We meet every week\, so you can really build lasting relationships. We’re a friendly bunch\, so don’t be shy! \nOur venue\, Longley Four Greens Community Centre\, is excellent and easily accessible\, located in Longley\, North Sheffield. If you need help with transport\, just get in touch and we’d be happy to help. We hope to see you there!
URL:https://www.shasbah.co.uk/event/craft-and-chat-12/
LOCATION:Longley Four Greens\, 41 Southey Avenue\, Sheffield\, S5 7NN\, United Kingdom
CATEGORIES:Adult Social Groups,Craft and Chat
ATTACH;FMTTYPE=image/png:https://www.shasbah.co.uk/wp-content/uploads/2021/09/t1-1-e1631178294557.png
ORGANIZER;CN="SHASBAH":MAILTO:info@shasbah.co.uk
END:VEVENT
BEGIN:VEVENT
DTSTART;TZID=UTC:20211001T110000
DTEND;TZID=UTC:20211001T130000
DTSTAMP:20260424T064126
CREATED:20210922T101924Z
LAST-MODIFIED:20210922T101924Z
UID:1758-1633086000-1633093200@www.shasbah.co.uk
SUMMARY:Craft and Chat
DESCRIPTION:Join us for an afternoon of crafting and chatting! Our weekly Sheffield craft group is an opportunity to get out the house\, get the creative juices flowing and meet other SHASBAH members. Entry is free and refreshments are provided! Bring lunch if you’d like to eat together. \nOur team provide everything you need for a fun afternoon. We offer crafts such as card-making\, origami and Hama beads. Plus\, we’re always open to suggestions and trying new things. We’re the only craft group in Sheffield specifically aimed at those with Spina Bifida and Hydrocephalus. It’s a great opportunity to get to know other people who are in a similar situation. We meet every week\, so you can really build lasting relationships. We’re a friendly bunch\, so don’t be shy! \nOur venue\, Longley Four Greens Community Centre\, is excellent and easily accessible\, located in Longley\, North Sheffield. If you need help with transport\, just get in touch and we’d be happy to help. We hope to see you there!
URL:https://www.shasbah.co.uk/event/craft-and-chat-11/
LOCATION:Longley Four Greens\, 41 Southey Avenue\, Sheffield\, S5 7NN\, United Kingdom
CATEGORIES:Adult Social Groups,Craft and Chat
ATTACH;FMTTYPE=image/png:https://www.shasbah.co.uk/wp-content/uploads/2021/09/t1-1-e1631178294557.png
ORGANIZER;CN="SHASBAH":MAILTO:info@shasbah.co.uk
END:VEVENT
BEGIN:VEVENT
DTSTART;TZID=UTC:20210924T110000
DTEND;TZID=UTC:20210924T130000
DTSTAMP:20260424T064126
CREATED:20210909T082302Z
LAST-MODIFIED:20210922T101619Z
UID:1703-1632481200-1632488400@www.shasbah.co.uk
SUMMARY:Craft and Chat
DESCRIPTION:Join us for an afternoon of crafting and chatting! Our weekly Sheffield craft group is an opportunity to get out the house\, get the creative juices flowing and meet other SHASBAH members. Entry is free and refreshments are provided! Bring lunch if you’d like to eat together. \nOur team provide everything you need for a fun afternoon. We offer crafts such as card-making\, origami and Hama beads. Plus\, we’re always open to suggestions and trying new things. We’re the only craft group in Sheffield specifically aimed at those with Spina Bifida and Hydrocephalus. It’s a great opportunity to get to know other people who are in a similar situation. We meet every week\, so you can really build lasting relationships. We’re a friendly bunch\, so don’t be shy! \nOur venue\, Longley Four Greens Community Centre\, is excellent and easily accessible\, located in Longley\, North Sheffield. If you need help with transport\, just get in touch and we’d be happy to help. We hope to see you there!
URL:https://www.shasbah.co.uk/event/craft-and-chat-23-9/
LOCATION:Longley Four Greens\, 41 Southey Avenue\, Sheffield\, S5 7NN\, United Kingdom
CATEGORIES:Adult Social Groups,Craft and Chat
ATTACH;FMTTYPE=image/png:https://www.shasbah.co.uk/wp-content/uploads/2021/09/t1-1-e1631178294557.png
ORGANIZER;CN="SHASBAH":MAILTO:info@shasbah.co.uk
END:VEVENT
BEGIN:VEVENT
DTSTART;TZID=UTC:20210916T100000
DTEND;TZID=UTC:20210916T120000
DTSTAMP:20260424T064126
CREATED:20210909T082232Z
LAST-MODIFIED:20210909T082232Z
UID:1700-1631786400-1631793600@www.shasbah.co.uk
SUMMARY:Craft and Chat
DESCRIPTION:Join us for an afternoon of crafting and chatting! Our weekly Sheffield craft group is an opportunity to get out the house\, get the creative juices flowing and meet other SHASBAH members. Entry is free and refreshments are provided! \nOur team provide everything you need for a fun afternoon. We offer crafts such as card-making\, origami and Hama beads. Plus\, we’re always open to suggestions and trying new things. We’re pretty sure that we’re the only craft group in Sheffield specifically aimed at those with Spina Bifida and Hydrocephalus. It’s a great opportunity to get to know other people who are in a similar situation. We meet every week\, so you can really build lasting relationships. We’re a friendly bunch\, so don’t be shy! \nOur venue\, Burton Street Foundation\, is excellent and easily accessible\, located in Hillsborough\, Sheffield. If you need help with transport\, just get in touch and we’d be happy to help. We hope to see you there!
URL:https://www.shasbah.co.uk/event/craft-and-chat-16-9/
LOCATION:Burton Street Foundation\, 57 Burton Street\, Sheffield\, S6 2HH
CATEGORIES:Adult Social Groups,Craft and Chat
ATTACH;FMTTYPE=image/png:https://www.shasbah.co.uk/wp-content/uploads/2021/09/t1-1-e1631178294557.png
ORGANIZER;CN="SHASBAH":MAILTO:info@shasbah.co.uk
END:VEVENT
END:VCALENDAR